Package: recountmethylation Version: 1.17.0 Command: /Library/Frameworks/R.framework/Resources/bin/R CMD check --install=check:recountmethylation.install-out.txt --library=/Library/Frameworks/R.framework/Resources/library --no-vignettes --timings recountmethylation_1.17.0.tar.gz StartedAt: 2025-02-09 23:01:28 -0500 (Sun, 09 Feb 2025) EndedAt: 2025-02-09 23:03:05 -0500 (Sun, 09 Feb 2025) EllapsedTime: 97.4 seconds RetCode: 0 Status: OK CheckDir: recountmethylation.Rcheck Warnings: 0