Package: recountmethylation Version: 1.17.0 Command: /home/biocbuild/bbs-3.21-bioc/R/bin/R CMD check --install=check:recountmethylation.install-out.txt --library=/home/biocbuild/bbs-3.21-bioc/R/site-library --timings recountmethylation_1.17.0.tar.gz StartedAt: 2025-02-05 01:53:49 -0500 (Wed, 05 Feb 2025) EndedAt: 2025-02-05 01:58:08 -0500 (Wed, 05 Feb 2025) EllapsedTime: 258.3 seconds RetCode: 0 Status: OK CheckDir: recountmethylation.Rcheck Warnings: 0