Package: recountmethylation Version: 1.17.0 Command: /home/biocbuild/bbs-3.21-bioc/R/bin/R CMD INSTALL recountmethylation StartedAt: 2025-02-09 15:41:38 -0500 (Sun, 09 Feb 2025) EndedAt: 2025-02-09 15:41:40 -0500 (Sun, 09 Feb 2025) EllapsedTime: 2.4 seconds RetCode: 0 Status: OK