Package: recountmethylation Version: 1.17.0 Command: chmod a+r recountmethylation -R && E:\biocbuild\bbs-3.21-bioc\R\bin\R.exe CMD build --keep-empty-dirs --no-resave-data recountmethylation StartedAt: 2025-02-04 21:08:28 -0500 (Tue, 04 Feb 2025) EndedAt: 2025-02-04 21:14:00 -0500 (Tue, 04 Feb 2025) EllapsedTime: 332.2 seconds RetCode: 0 Status: OK PackageFile: recountmethylation_1.17.0.tar.gz PackageFileSize: 4.69 MiB