Package: recoup Version: 1.35.0 Command: /Library/Frameworks/R.framework/Resources/bin/R CMD INSTALL recoup StartedAt: 2025-02-12 15:11:52 -0500 (Wed, 12 Feb 2025) EndedAt: 2025-02-12 15:12:11 -0500 (Wed, 12 Feb 2025) EllapsedTime: 18.4 seconds RetCode: 0 Status: OK