Package: recoup Version: 1.35.0 Command: /home/biocbuild/R/R/bin/R CMD check --install=check:recoup.install-out.txt --library=/home/biocbuild/R/R/site-library --no-vignettes --timings recoup_1.35.0.tar.gz StartedAt: 2025-01-28 14:23:54 -0000 (Tue, 28 Jan 2025) EndedAt: 2025-01-28 14:33:05 -0000 (Tue, 28 Jan 2025) EllapsedTime: 550.6 seconds RetCode: 0 Status: WARNINGS CheckDir: recoup.Rcheck Warnings: 5