Package: recoup Version: 1.35.0 Command: /home/biocbuild/R/R/bin/R CMD INSTALL recoup StartedAt: 2025-01-29 20:03:03 -0000 (Wed, 29 Jan 2025) EndedAt: 2025-01-29 20:04:04 -0000 (Wed, 29 Jan 2025) EllapsedTime: 61.6 seconds RetCode: 0 Status: OK