Package: recoup Version: 1.35.0 Command: /home/biocbuild/bbs-3.21-bioc/R/bin/R CMD build --keep-empty-dirs --no-resave-data recoup StartedAt: 2025-02-12 18:48:15 -0500 (Wed, 12 Feb 2025) EndedAt: 2025-02-12 18:49:14 -0500 (Wed, 12 Feb 2025) EllapsedTime: 59.1 seconds RetCode: 0 Status: OK PackageFile: recoup_1.35.0.tar.gz PackageFileSize: 2.252 MiB