Package: recoup Version: 1.35.0 Command: /home/biocbuild/bbs-3.21-bioc/R/bin/R CMD check --install=check:recoup.install-out.txt --library=/home/biocbuild/bbs-3.21-bioc/R/site-library --timings recoup_1.35.0.tar.gz StartedAt: 2025-02-13 01:46:58 -0500 (Thu, 13 Feb 2025) EndedAt: 2025-02-13 01:54:35 -0500 (Thu, 13 Feb 2025) EllapsedTime: 456.7 seconds RetCode: 0 Status: OK CheckDir: recoup.Rcheck Warnings: 0