Package: recoup Version: 1.35.0 Command: rm -rf recoup.buildbin-libdir && mkdir recoup.buildbin-libdir && E:\biocbuild\bbs-3.21-bioc\R\bin\R.exe CMD INSTALL --build --library=recoup.buildbin-libdir recoup_1.35.0.tar.gz StartedAt: 2025-02-10 08:31:13 -0500 (Mon, 10 Feb 2025) EndedAt: 2025-02-10 08:32:19 -0500 (Mon, 10 Feb 2025) EllapsedTime: 65.5 seconds RetCode: 0 Status: OK PackageFile: recoup_1.35.0.zip PackageFileSize: 2.696 MiB