Package: recoup Version: 1.35.0 Command: chmod a+r recoup -R && E:\biocbuild\bbs-3.21-bioc\R\bin\R.exe CMD build --keep-empty-dirs --no-resave-data recoup StartedAt: 2025-02-09 21:05:41 -0500 (Sun, 09 Feb 2025) EndedAt: 2025-02-09 21:07:29 -0500 (Sun, 09 Feb 2025) EllapsedTime: 108.2 seconds RetCode: 0 Status: OK PackageFile: recoup_1.35.0.tar.gz PackageFileSize: 2.252 MiB