Package: recoup Version: 1.35.0 Command: E:\biocbuild\bbs-3.21-bioc\R\bin\R.exe CMD check --no-multiarch --install=check:recoup.install-out.txt --library=E:\biocbuild\bbs-3.21-bioc\R\library --no-vignettes --timings recoup_1.35.0.tar.gz StartedAt: 2025-02-10 04:34:45 -0500 (Mon, 10 Feb 2025) EndedAt: 2025-02-10 04:42:37 -0500 (Mon, 10 Feb 2025) EllapsedTime: 472.7 seconds RetCode: 0 Status: OK CheckDir: recoup.Rcheck Warnings: 0