Package: regionReport Version: 1.41.1 Maintainer: Leonardo Collado-Torres MaintainerEmail: lcolladotor at gmail.com git_url: https://git.bioconductor.org/packages/regionReport git_branch: devel git_last_commit: f885790 git_last_commit_date: 2025-01-14 10:31:45 -0500 (Tue, 14 Jan 2025)