Package: regionReport Version: 1.41.1 Command: /Library/Frameworks/R.framework/Resources/bin/R CMD build --keep-empty-dirs --no-resave-data regionReport StartedAt: 2025-02-09 17:22:37 -0500 (Sun, 09 Feb 2025) EndedAt: 2025-02-09 17:23:05 -0500 (Sun, 09 Feb 2025) EllapsedTime: 28.3 seconds RetCode: 0 Status: OK PackageFile: regionReport_1.41.1.tar.gz PackageFileSize: 643.5 KiB