Package: regionReport Version: 1.41.1 Command: /Library/Frameworks/R.framework/Resources/bin/R CMD check --install=check:regionReport.install-out.txt --library=/Library/Frameworks/R.framework/Resources/library --no-vignettes --timings regionReport_1.41.1.tar.gz StartedAt: 2025-02-09 20:55:03 -0500 (Sun, 09 Feb 2025) EndedAt: 2025-02-09 20:55:07 -0500 (Sun, 09 Feb 2025) EllapsedTime: 4.0 seconds RetCode: 1 Status: ERROR CheckDir: regionReport.Rcheck Warnings: NA