Package: regionReport Version: 1.41.1 Command: /home/biocbuild/R/R/bin/R CMD build --keep-empty-dirs --no-resave-data regionReport StartedAt: 2025-01-29 01:36:31 -0000 (Wed, 29 Jan 2025) EndedAt: 2025-01-29 01:38:05 -0000 (Wed, 29 Jan 2025) EllapsedTime: 94.0 seconds RetCode: 0 Status: OK PackageFile: regionReport_1.41.1.tar.gz PackageFileSize: 775.4 KiB