Package: regionReport Version: 1.41.1 Command: rm -rf regionReport.buildbin-libdir && mkdir regionReport.buildbin-libdir && E:\biocbuild\bbs-3.21-bioc\R\bin\R.exe CMD INSTALL --build --library=regionReport.buildbin-libdir regionReport_1.41.1.tar.gz StartedAt: 2025-02-10 08:31:32 -0500 (Mon, 10 Feb 2025) EndedAt: 2025-02-10 08:32:24 -0500 (Mon, 10 Feb 2025) EllapsedTime: 52.3 seconds RetCode: 0 Status: OK PackageFile: regionReport_1.41.1.zip PackageFileSize: 702.3 KiB