Package: regionReport Version: 1.41.1 Command: chmod a+r regionReport -R && E:\biocbuild\bbs-3.21-bioc\R\bin\R.exe CMD build --keep-empty-dirs --no-resave-data regionReport StartedAt: 2025-02-09 21:06:51 -0500 (Sun, 09 Feb 2025) EndedAt: 2025-02-09 21:08:34 -0500 (Sun, 09 Feb 2025) EllapsedTime: 103.0 seconds RetCode: 0 Status: OK PackageFile: regionReport_1.41.1.tar.gz PackageFileSize: 644.3 KiB