Package: regionReport Version: 1.41.1 Command: E:\biocbuild\bbs-3.21-bioc\R\bin\R.exe CMD check --no-multiarch --install=check:regionReport.install-out.txt --library=E:\biocbuild\bbs-3.21-bioc\R\library --no-vignettes --timings regionReport_1.41.1.tar.gz StartedAt: 2025-02-10 04:36:54 -0500 (Mon, 10 Feb 2025) EndedAt: 2025-02-10 04:36:59 -0500 (Mon, 10 Feb 2025) EllapsedTime: 5.0 seconds RetCode: 1 Status: ERROR CheckDir: regionReport.Rcheck Warnings: NA