Package: regionReport Version: 1.41.1 Command: E:\biocbuild\bbs-3.21-bioc\R\bin\R.exe CMD INSTALL regionReport StartedAt: 2025-02-09 16:50:31 -0500 (Sun, 09 Feb 2025) EndedAt: 2025-02-09 16:51:21 -0500 (Sun, 09 Feb 2025) EllapsedTime: 50.5 seconds RetCode: 0 Status: OK