Package: regionalpcs Version: 1.5.0 Command: rm -rf regionalpcs.buildbin-libdir && mkdir regionalpcs.buildbin-libdir && /Users/biocbuild/BBS/utils/build-universal.sh regionalpcs_1.5.0.tar.gz /Library/Frameworks/R.framework/Resources/bin/R regionalpcs.buildbin-libdir StartedAt: 2025-02-09 22:27:04 -0500 (Sun, 09 Feb 2025) EndedAt: 2025-02-09 22:27:06 -0500 (Sun, 09 Feb 2025) EllapsedTime: 2.0 seconds RetCode: 0 Status: OK PackageFile: regionalpcs_1.5.0.tgz PackageFileSize: 477.2 KiB