Package: regionalpcs Version: 1.5.0 Command: /Library/Frameworks/R.framework/Resources/bin/R CMD build --keep-empty-dirs --no-resave-data regionalpcs StartedAt: 2025-02-09 17:22:23 -0500 (Sun, 09 Feb 2025) EndedAt: 2025-02-09 17:22:35 -0500 (Sun, 09 Feb 2025) EllapsedTime: 12.1 seconds RetCode: 0 Status: OK PackageFile: regionalpcs_1.5.0.tar.gz PackageFileSize: 469.9 KiB