Package: regionalpcs Version: 1.5.0 Command: /Library/Frameworks/R.framework/Resources/bin/R CMD INSTALL regionalpcs StartedAt: 2025-02-12 15:25:07 -0500 (Wed, 12 Feb 2025) EndedAt: 2025-02-12 15:25:08 -0500 (Wed, 12 Feb 2025) EllapsedTime: 1.1 seconds RetCode: 0 Status: OK