Package: regionalpcs Version: 1.5.0 Command: /Library/Frameworks/R.framework/Resources/bin/R CMD check --install=check:regionalpcs.install-out.txt --library=/Library/Frameworks/R.framework/Resources/library --no-vignettes --timings regionalpcs_1.5.0.tar.gz StartedAt: 2025-02-09 23:02:07 -0500 (Sun, 09 Feb 2025) EndedAt: 2025-02-09 23:03:00 -0500 (Sun, 09 Feb 2025) EllapsedTime: 53.1 seconds RetCode: 0 Status: OK CheckDir: regionalpcs.Rcheck Warnings: 0