Package: regionalpcs Version: 1.5.0 Command: /home/biocbuild/bbs-3.21-bioc/R/bin/R CMD check --install=check:regionalpcs.install-out.txt --library=/home/biocbuild/bbs-3.21-bioc/R/site-library --timings regionalpcs_1.5.0.tar.gz StartedAt: 2025-02-13 01:47:44 -0500 (Thu, 13 Feb 2025) EndedAt: 2025-02-13 01:48:53 -0500 (Thu, 13 Feb 2025) EllapsedTime: 69.1 seconds RetCode: 0 Status: OK CheckDir: regionalpcs.Rcheck Warnings: 0