Package: regionalpcs Version: 1.5.0 Command: /home/biocbuild/bbs-3.21-bioc/R/bin/R CMD INSTALL regionalpcs StartedAt: 2025-02-09 15:54:27 -0500 (Sun, 09 Feb 2025) EndedAt: 2025-02-09 15:54:29 -0500 (Sun, 09 Feb 2025) EllapsedTime: 2.1 seconds RetCode: 0 Status: OK