Package: regionalpcs Version: 1.5.0 Command: rm -rf regionalpcs.buildbin-libdir && mkdir regionalpcs.buildbin-libdir && E:\biocbuild\bbs-3.21-bioc\R\bin\R.exe CMD INSTALL --build --library=regionalpcs.buildbin-libdir regionalpcs_1.5.0.tar.gz StartedAt: 2025-02-10 08:31:27 -0500 (Mon, 10 Feb 2025) EndedAt: 2025-02-10 08:31:40 -0500 (Mon, 10 Feb 2025) EllapsedTime: 13.0 seconds RetCode: 0 Status: OK PackageFile: regionalpcs_1.5.0.zip PackageFileSize: 480 KiB