Package: regionalpcs Version: 1.5.0 Command: chmod a+r regionalpcs -R && E:\biocbuild\bbs-3.21-bioc\R\bin\R.exe CMD build --keep-empty-dirs --no-resave-data regionalpcs StartedAt: 2025-02-12 21:13:30 -0500 (Wed, 12 Feb 2025) EndedAt: 2025-02-12 21:14:10 -0500 (Wed, 12 Feb 2025) EllapsedTime: 40.6 seconds RetCode: 0 Status: OK PackageFile: regionalpcs_1.5.0.tar.gz PackageFileSize: 470.2 KiB