Package: regioneR Version: 1.39.0 Command: /home/biocbuild/R/R/bin/R CMD check --install=check:regioneR.install-out.txt --library=/home/biocbuild/R/R/site-library --no-vignettes --timings regioneR_1.39.0.tar.gz StartedAt: 2025-01-27 11:40:13 -0000 (Mon, 27 Jan 2025) EndedAt: 2025-01-27 11:50:15 -0000 (Mon, 27 Jan 2025) EllapsedTime: 602.0 seconds RetCode: 0 Status: OK CheckDir: regioneR.Rcheck Warnings: 0