Package: regioneR Version: 1.39.0 Command: chmod a+r regioneR -R && E:\biocbuild\bbs-3.21-bioc\R\bin\R.exe CMD build --keep-empty-dirs --no-resave-data regioneR StartedAt: 2025-02-09 21:06:40 -0500 (Sun, 09 Feb 2025) EndedAt: 2025-02-09 21:14:22 -0500 (Sun, 09 Feb 2025) EllapsedTime: 461.4 seconds RetCode: 1 Status: ERROR PackageFile: None PackageFileSize: NA