Package: regioneR Version: 1.39.0 Command: E:\biocbuild\bbs-3.21-bioc\R\bin\R.exe CMD check --no-multiarch --install=check:regioneR.install-out.txt --library=E:\biocbuild\bbs-3.21-bioc\R\library --no-vignettes --timings regioneR_1.39.0.tar.gz StartedAt: 2025-01-22 04:38:12 -0500 (Wed, 22 Jan 2025) EndedAt: 2025-01-22 05:00:36 -0500 (Wed, 22 Jan 2025) EllapsedTime: 1344.0 seconds RetCode: 0 Status: OK CheckDir: regioneR.Rcheck Warnings: 0