Package: regsplice Version: 1.33.0 Command: /Library/Frameworks/R.framework/Resources/bin/R CMD check --install=check:regsplice.install-out.txt --library=/Library/Frameworks/R.framework/Resources/library --no-vignettes --timings regsplice_1.33.0.tar.gz StartedAt: 2025-02-03 21:31:27 -0500 (Mon, 03 Feb 2025) EndedAt: 2025-02-03 21:32:44 -0500 (Mon, 03 Feb 2025) EllapsedTime: 76.9 seconds RetCode: 0 Status: OK CheckDir: regsplice.Rcheck Warnings: 0