Package: regsplice Version: 1.33.0 Command: /Library/Frameworks/R.framework/Resources/bin/R CMD INSTALL regsplice StartedAt: 2025-02-09 15:34:30 -0500 (Sun, 09 Feb 2025) EndedAt: 2025-02-09 15:35:01 -0500 (Sun, 09 Feb 2025) EllapsedTime: 30.9 seconds RetCode: 0 Status: OK