Package: regsplice Version: 1.33.0 Command: rm -rf regsplice.buildbin-libdir && mkdir regsplice.buildbin-libdir && E:\biocbuild\bbs-3.21-bioc\R\bin\R.exe CMD INSTALL --build --library=regsplice.buildbin-libdir regsplice_1.33.0.tar.gz StartedAt: 2025-02-10 08:31:36 -0500 (Mon, 10 Feb 2025) EndedAt: 2025-02-10 08:32:09 -0500 (Mon, 10 Feb 2025) EllapsedTime: 33.9 seconds RetCode: 0 Status: OK PackageFile: regsplice_1.33.0.zip PackageFileSize: 418.3 KiB