Package: regsplice Version: 1.33.0 Command: chmod a+r regsplice -R && E:\biocbuild\bbs-3.21-bioc\R\bin\R.exe CMD build --keep-empty-dirs --no-resave-data regsplice StartedAt: 2025-02-04 21:09:35 -0500 (Tue, 04 Feb 2025) EndedAt: 2025-02-04 21:10:40 -0500 (Tue, 04 Feb 2025) EllapsedTime: 65.2 seconds RetCode: 0 Status: OK PackageFile: regsplice_1.33.0.tar.gz PackageFileSize: 287.2 KiB