Package: retrofit Version: 1.7.0 Maintainer: Adam Park MaintainerEmail: akp6031 at psu.edu git_url: https://git.bioconductor.org/packages/retrofit git_branch: devel git_last_commit: a8142a1 git_last_commit_date: 2024-10-29 11:20:26 -0500 (Tue, 29 Oct 2024)