Package: retrofit Version: 1.7.0 Command: /Library/Frameworks/R.framework/Resources/bin/R CMD INSTALL retrofit StartedAt: 2025-02-09 15:01:39 -0500 (Sun, 09 Feb 2025) EndedAt: 2025-02-09 15:01:57 -0500 (Sun, 09 Feb 2025) EllapsedTime: 18.4 seconds RetCode: 0 Status: OK