Package: retrofit Version: 1.7.0 Command: /home/biocbuild/R/R/bin/R CMD check --install=check:retrofit.install-out.txt --library=/home/biocbuild/R/R/site-library --no-vignettes --timings retrofit_1.7.0.tar.gz StartedAt: 2025-01-28 14:27:40 -0000 (Tue, 28 Jan 2025) EndedAt: 2025-01-28 14:28:22 -0000 (Tue, 28 Jan 2025) EllapsedTime: 42.0 seconds RetCode: 0 Status: OK CheckDir: retrofit.Rcheck Warnings: 0