Package: retrofit Version: 1.7.0 Command: rm -rf retrofit.buildbin-libdir && mkdir retrofit.buildbin-libdir && /Users/biocbuild/BBS/utils/build-universal.sh retrofit_1.7.0.tar.gz /Library/Frameworks/R.framework/Resources/bin/R retrofit.buildbin-libdir StartedAt: 2025-02-10 01:11:28 -0500 (Mon, 10 Feb 2025) EndedAt: 2025-02-10 01:11:55 -0500 (Mon, 10 Feb 2025) EllapsedTime: 26.4 seconds RetCode: 0 Status: OK PackageFile: retrofit_1.7.0.tgz PackageFileSize: 4.636 MiB