Package: retrofit Version: 1.7.0 Command: /home/biocbuild/bbs-3.21-bioc/R/bin/R CMD build --keep-empty-dirs --no-resave-data retrofit StartedAt: 2025-02-12 18:50:10 -0500 (Wed, 12 Feb 2025) EndedAt: 2025-02-12 18:50:52 -0500 (Wed, 12 Feb 2025) EllapsedTime: 41.1 seconds RetCode: 0 Status: OK PackageFile: retrofit_1.7.0.tar.gz PackageFileSize: 4.716 MiB