Package: retrofit Version: 1.7.0 Command: chmod a+r retrofit -R && E:\biocbuild\bbs-3.21-bioc\R\bin\R.exe CMD build --keep-empty-dirs --no-resave-data retrofit StartedAt: 2025-02-09 21:08:18 -0500 (Sun, 09 Feb 2025) EndedAt: 2025-02-09 21:10:03 -0500 (Sun, 09 Feb 2025) EllapsedTime: 104.7 seconds RetCode: 0 Status: OK PackageFile: retrofit_1.7.0.tar.gz PackageFileSize: 3.597 MiB