Package: retrofit Version: 1.7.0 Command: E:\biocbuild\bbs-3.21-bioc\R\bin\R.exe CMD INSTALL retrofit StartedAt: 2025-02-09 15:20:36 -0500 (Sun, 09 Feb 2025) EndedAt: 2025-02-09 15:22:21 -0500 (Sun, 09 Feb 2025) EllapsedTime: 105.1 seconds RetCode: 0 Status: OK