Package: rexposome Version: 1.29.0 Command: /Library/Frameworks/R.framework/Resources/bin/R CMD build --keep-empty-dirs --no-resave-data rexposome StartedAt: 2025-02-09 17:23:17 -0500 (Sun, 09 Feb 2025) EndedAt: 2025-02-09 17:23:49 -0500 (Sun, 09 Feb 2025) EllapsedTime: 32.3 seconds RetCode: 0 Status: OK PackageFile: rexposome_1.29.0.tar.gz PackageFileSize: 8.653 MiB