Package: rexposome Version: 1.29.0 Command: /Library/Frameworks/R.framework/Resources/bin/R CMD check --install=check:rexposome.install-out.txt --library=/Library/Frameworks/R.framework/Resources/library --no-vignettes --timings rexposome_1.29.0.tar.gz StartedAt: 2025-02-04 22:46:04 -0500 (Tue, 04 Feb 2025) EndedAt: 2025-02-04 22:49:01 -0500 (Tue, 04 Feb 2025) EllapsedTime: 177.4 seconds RetCode: 0 Status: WARNINGS CheckDir: rexposome.Rcheck Warnings: 5