Package: rexposome Version: 1.29.0 Command: /home/biocbuild/bbs-3.21-bioc/R/bin/R CMD check --install=check:rexposome.install-out.txt --library=/home/biocbuild/bbs-3.21-bioc/R/site-library --timings rexposome_1.29.0.tar.gz StartedAt: 2025-02-13 01:51:34 -0500 (Thu, 13 Feb 2025) EndedAt: 2025-02-13 01:55:22 -0500 (Thu, 13 Feb 2025) EllapsedTime: 227.5 seconds RetCode: 0 Status: WARNINGS CheckDir: rexposome.Rcheck Warnings: 5