Package: rexposome Version: 1.29.0 Command: rm -rf rexposome.buildbin-libdir && mkdir rexposome.buildbin-libdir && E:\biocbuild\bbs-3.21-bioc\R\bin\R.exe CMD INSTALL --build --library=rexposome.buildbin-libdir rexposome_1.29.0.tar.gz StartedAt: 2025-02-10 08:32:14 -0500 (Mon, 10 Feb 2025) EndedAt: 2025-02-10 08:33:32 -0500 (Mon, 10 Feb 2025) EllapsedTime: 77.8 seconds RetCode: 0 Status: OK PackageFile: rexposome_1.29.0.zip PackageFileSize: 6.007 MiB