Package: rexposome Version: 1.29.0 Command: E:\biocbuild\bbs-3.21-bioc\R\bin\R.exe CMD INSTALL rexposome StartedAt: 2025-02-03 16:14:59 -0500 (Mon, 03 Feb 2025) EndedAt: 2025-02-03 16:16:34 -0500 (Mon, 03 Feb 2025) EllapsedTime: 95.0 seconds RetCode: 0 Status: OK