Package: rfaRm Version: 1.19.0 Command: rm -rf rfaRm.buildbin-libdir && mkdir rfaRm.buildbin-libdir && /Users/biocbuild/BBS/utils/build-universal.sh rfaRm_1.19.0.tar.gz /Library/Frameworks/R.framework/Resources/bin/R rfaRm.buildbin-libdir StartedAt: 2025-02-09 22:27:20 -0500 (Sun, 09 Feb 2025) EndedAt: 2025-02-09 22:27:27 -0500 (Sun, 09 Feb 2025) EllapsedTime: 7.1 seconds RetCode: 0 Status: OK PackageFile: rfaRm_1.19.0.tgz PackageFileSize: 598.2 KiB