Package: rfaRm Version: 1.19.0 Command: /Library/Frameworks/R.framework/Resources/bin/R CMD INSTALL rfaRm StartedAt: 2025-02-03 16:00:59 -0500 (Mon, 03 Feb 2025) EndedAt: 2025-02-03 16:01:06 -0500 (Mon, 03 Feb 2025) EllapsedTime: 6.5 seconds RetCode: 0 Status: OK