Package: rfaRm Version: 1.19.0 Command: /home/biocbuild/R/R/bin/R CMD check --install=check:rfaRm.install-out.txt --library=/home/biocbuild/R/R/site-library --no-vignettes --timings rfaRm_1.19.0.tar.gz StartedAt: 2025-01-28 14:28:22 -0000 (Tue, 28 Jan 2025) EndedAt: 2025-01-28 14:31:30 -0000 (Tue, 28 Jan 2025) EllapsedTime: 188.2 seconds RetCode: 0 Status: WARNINGS CheckDir: rfaRm.Rcheck Warnings: 5